BEGIN:VCALENDAR
VERSION:2.0
PRODID:-//BMW Touring Club of Detroit - ECPv6.15.11//NONSGML v1.0//EN
CALSCALE:GREGORIAN
METHOD:PUBLISH
X-WR-CALNAME:BMW Touring Club of Detroit
X-ORIGINAL-URL:https://bmwtcd.org
X-WR-CALDESC:Events for BMW Touring Club of Detroit
REFRESH-INTERVAL;VALUE=DURATION:PT1H
X-Robots-Tag:noindex
X-PUBLISHED-TTL:PT1H
BEGIN:VTIMEZONE
TZID:America/Detroit
BEGIN:DAYLIGHT
TZOFFSETFROM:-0500
TZOFFSETTO:-0400
TZNAME:EDT
DTSTART:20250309T070000
END:DAYLIGHT
BEGIN:STANDARD
TZOFFSETFROM:-0400
TZOFFSETTO:-0500
TZNAME:EST
DTSTART:20251102T060000
END:STANDARD
BEGIN:DAYLIGHT
TZOFFSETFROM:-0500
TZOFFSETTO:-0400
TZNAME:EDT
DTSTART:20260308T070000
END:DAYLIGHT
BEGIN:STANDARD
TZOFFSETFROM:-0400
TZOFFSETTO:-0500
TZNAME:EST
DTSTART:20261101T060000
END:STANDARD
BEGIN:DAYLIGHT
TZOFFSETFROM:-0500
TZOFFSETTO:-0400
TZNAME:EDT
DTSTART:20270314T070000
END:DAYLIGHT
BEGIN:STANDARD
TZOFFSETFROM:-0400
TZOFFSETTO:-0500
TZNAME:EST
DTSTART:20271107T060000
END:STANDARD
END:VTIMEZONE
BEGIN:VEVENT
DTSTART;TZID=America/Detroit:20260705T090000
DTEND;TZID=America/Detroit:20260705T103000
DTSTAMP:20260423T042007
CREATED:20240712T220606Z
LAST-MODIFIED:20260212T022510Z
UID:25572-1783242000-1783247400@bmwtcd.org
SUMMARY:Breakfast - Mimi's Diner
DESCRIPTION:Join your fellow TCDers for breakfast at Mimi's Diner in Pinckney\, on M-36.
URL:https://bmwtcd.org/event/breakfast-mimis-diner-2/
LOCATION:Mimi’s Diner\, 5589 M-36 #7\, Pinckney\, MI\, 48169\, United States
CATEGORIES:TCD Breakfast
ATTACH;FMTTYPE=image/jpeg:https://bmwtcd.org/wp-content/uploads/2024/05/Mimis-Diner-Pinckney.jpg
END:VEVENT
BEGIN:VEVENT
DTSTART;TZID=America/Detroit:20260705T100000
DTEND;TZID=America/Detroit:20260705T150000
DTSTAMP:20260423T042007
CREATED:20230217T165323Z
LAST-MODIFIED:20260214T012306Z
UID:23989-1783245600-1783263600@bmwtcd.org
SUMMARY:Washtenaw ADV & Road Rides
DESCRIPTION:Join us for the annual Washtenaw ADV ride!  A light ADV ride on maintained dirt roads in Washtenaw Counties.  This year's ADV route starts at the Smoke Doctor 2 in Hell\, traverses 68 miles of mostly dirt but a little pavement and ends at Aubree's Pizzeria & Grill in Dexter. A Road Ride has been added this year\, starting at Mimi's Diner in Pinckney and also ending at Aubree's Pizzeria & Grill. The Road Ride is 100% paved roads. \n2026 Meet up location/time is not yet determined... keep an eye on the forums for a ride discussion. \n 
URL:https://bmwtcd.org/event/washtenaw-adv-ride/
LOCATION:The Smoke Doctor 2\, 4025 Patterson Lake Rd\, Pinckney\, MI\, 48169\, United States
CATEGORIES:TCD Ride
ATTACH;FMTTYPE=image/jpeg:https://bmwtcd.org/wp-content/uploads/2021/09/2021OakADV_End-e1676652776605.jpg
END:VEVENT
BEGIN:VEVENT
DTSTART;VALUE=DATE:20260711
DTEND;VALUE=DATE:20260714
DTSTAMP:20260423T042007
CREATED:20260214T012824Z
LAST-MODIFIED:20260217T024442Z
UID:26230-1783728000-1783987199@bmwtcd.org
SUMMARY:Michigan Sunrise to Sunset Ride
DESCRIPTION:Sunrise to Sunset Lake to Lake TCD Ride Saturday\, July 11 to Monday\, July 13\nYou're invited to join the Sunrise to Sunset Lake to Lake TCD Weekend on July 11th\, featuring a bike ride to Port Huron for dinner\, a sunrise photo at the lighthouse\, a bike ride to Muskegon for lunch\, and a sunset photo at Lake Michigan\, with hotel bookings in Port Huron and Muskegon.\n\n\nMeet Saturday\, July 11th at 3pm at BMW Detroit\nArrive at Fairfield Inn\, Port Huron for the Saturday night\nAttend the sunrise picture at the lighthouse in Port Huron Sunday am\nTravel to Muskegon for the sunset picture Sunday night and stay in Muskegon at the Fairfield Inn.\nTravel home Monday\n\nPlease see the ride forum post for more details regarding hotels\, routes\, etc. \nhttps://bmwtcd.org/community/postid/887/
URL:https://bmwtcd.org/event/michigan-sunrise-to-sunset-ride/
CATEGORIES:TCD Ride
END:VEVENT
BEGIN:VEVENT
DTSTART;TZID=America/Detroit:20260712T090000
DTEND;TZID=America/Detroit:20260712T103000
DTSTAMP:20260423T042007
CREATED:20230215T161504Z
LAST-MODIFIED:20260213T004047Z
UID:23874-1783846800-1783852200@bmwtcd.org
SUMMARY:Breakfast - Scrambler
DESCRIPTION:Scrambler is a family-owned restaurant concept serving a unique breakfast menu with fresh ingredients and friendly service.
URL:https://bmwtcd.org/event/breakfast-scrambler-6/
LOCATION:Scrambler\, 27909 Orchard Lake Rd\, Farmington Hills\, MI\, 48334\, United States
CATEGORIES:TCD Breakfast
ATTACH;FMTTYPE=image/jpeg:https://bmwtcd.org/wp-content/uploads/2022/01/Scrambler.jpg
END:VEVENT
BEGIN:VEVENT
DTSTART;TZID=America/Detroit:20260714T183000
DTEND;TZID=America/Detroit:20260714T200000
DTSTAMP:20260423T042007
CREATED:20250608T212533Z
LAST-MODIFIED:20260214T140419Z
UID:25989-1784053800-1784059200@bmwtcd.org
SUMMARY:TCD Nite - Rochester Mills Beer Company
DESCRIPTION:Join your fellow TCD members at the Rochester Mills Beer Company located in a historic knitting mill serving comfort food alongside house beers & live music.
URL:https://bmwtcd.org/event/tcd-nite-rochester-mills-beer-company/
LOCATION:Rochester Mills Beer Company\, 400 Water St\, Rochester\, MI\, 48307\, United States
CATEGORIES:TCD Nite
ATTACH;FMTTYPE=image/jpeg:https://bmwtcd.org/wp-content/uploads/2025/06/RochesterMillsBrewery.jpg
END:VEVENT
BEGIN:VEVENT
DTSTART;TZID=America/Detroit:20260719T090000
DTEND;TZID=America/Detroit:20260719T103000
DTSTAMP:20260423T042007
CREATED:20230215T160737Z
LAST-MODIFIED:20260213T005406Z
UID:23863-1784451600-1784457000@bmwtcd.org
SUMMARY:Breakfast - Americus Coney & Grill
DESCRIPTION:Americus Coney & Grill offers a broad selection of breakfast items - eggs\, pancakes\, waffles\, French toast\, skillets and more!
URL:https://bmwtcd.org/event/breakfast-americus-coney-grill-10/
LOCATION:Americus Coney & Grille\, 167 S Milford Rd\, Milford\, MI\, 48381\, United States
CATEGORIES:TCD Breakfast
ATTACH;FMTTYPE=image/jpeg:https://bmwtcd.org/wp-content/uploads/2022/01/Americus-1.jpg
END:VEVENT
BEGIN:VEVENT
DTSTART;VALUE=DATE:20260723
DTEND;VALUE=DATE:20260727
DTSTAMP:20260423T042007
CREATED:20230217T185042Z
LAST-MODIFIED:20260214T013129Z
UID:23999-1784764800-1785110399@bmwtcd.org
SUMMARY:Soggy Bottom Motofest
DESCRIPTION:Three day ADV riding event put on by BMW Dealer Kissell Motorsports of Tyronne\, PA that has become a favorite of the TCD ADV riders.  Very well organized\, breakfasts and dinners\, challenging and casual ADV routes\, music\, contests and a whole bunch of fun.  Click on the link to go to Kissell's event website.
URL:https://bmwtcd.org/event/soggy-bottom-motofest/
LOCATION:Fowler Grove Community Center\, 11246 S. Eagle Valley Rd\, Port Matilda\, PA\, 16870\, United States
CATEGORIES:Non-TCD Event
ATTACH;FMTTYPE=image/jpeg:https://bmwtcd.org/wp-content/uploads/2023/02/LB-Soggy-Bottom16x9-scaled-e1676660957745.jpg
ORGANIZER;CN="Kissell Motorsports":MAILTO:info@kissellmotorsports.com
END:VEVENT
BEGIN:VEVENT
DTSTART;VALUE=DATE:20260724
DTEND;VALUE=DATE:20260727
DTSTAMP:20260423T042007
CREATED:20230331T224145Z
LAST-MODIFIED:20260214T013234Z
UID:24497-1784851200-1785110399@bmwtcd.org
SUMMARY:AMA Vintage Motorcycle Days
DESCRIPTION:Vintage racing is one of the staples of the AMA Vintage Motorcycle Days experience. The weekend event offers everyone — from weekend warriors to Hall of Famers to pro riders — a chance to go back in time and compete on the beloved two-wheeled machines of the past\, ranging from bikes nearly a century old to machines manufactured just prior to the modern era. \nThe weekend includes Motocross\, Hair Scrambles\, Trials\, Flat Track\, Road Racing and even Pit Bike races. \nConsult the AMA website for further information:  Vintage Motorcycle Days \n 
URL:https://bmwtcd.org/event/vintage-motorcycle-days/
LOCATION:Mid-Ohio Sports Car Course\, 7721 Steam Corners Rd.\, Lexington\, OH\, 44904\, United States
CATEGORIES:Non-TCD Event
ATTACH;FMTTYPE=image/jpeg:https://bmwtcd.org/wp-content/uploads/2023/03/Vintage.jpg
END:VEVENT
BEGIN:VEVENT
DTSTART;TZID=America/Detroit:20260726T090000
DTEND;TZID=America/Detroit:20260726T103000
DTSTAMP:20260423T042007
CREATED:20230215T165141Z
LAST-MODIFIED:20260213T010237Z
UID:23900-1785056400-1785061800@bmwtcd.org
SUMMARY:Breakfast - Greek Jalapeno
DESCRIPTION:Greek Jalapeno was established in 2010\, offering perfect mix of Greek\, Mexican and American food along with Breakfast!  Greek Jalapeno is on Cooley Lake Rd\, between S. Hospital Rd and Lochaven Rd\, across from a Marathon station.
URL:https://bmwtcd.org/event/breakfast-greek-jalapeno-7/
LOCATION:Greek Jalapeno Restaurant\, 6636 Cooley Lake Rd\, Waterford\, MI\, 48327\, United States
CATEGORIES:TCD Breakfast
ATTACH;FMTTYPE=image/jpeg:https://bmwtcd.org/wp-content/uploads/2019/01/Greek-Jalapeno.jpg
END:VEVENT
END:VCALENDAR