BEGIN:VCALENDAR
VERSION:2.0
PRODID:-//BMW Touring Club of Detroit - ECPv6.15.11//NONSGML v1.0//EN
CALSCALE:GREGORIAN
METHOD:PUBLISH
X-WR-CALNAME:BMW Touring Club of Detroit
X-ORIGINAL-URL:https://bmwtcd.org
X-WR-CALDESC:Events for BMW Touring Club of Detroit
REFRESH-INTERVAL;VALUE=DURATION:PT1H
X-Robots-Tag:noindex
X-PUBLISHED-TTL:PT1H
BEGIN:VTIMEZONE
TZID:America/Detroit
BEGIN:DAYLIGHT
TZOFFSETFROM:-0500
TZOFFSETTO:-0400
TZNAME:EDT
DTSTART:20230312T070000
END:DAYLIGHT
BEGIN:STANDARD
TZOFFSETFROM:-0400
TZOFFSETTO:-0500
TZNAME:EST
DTSTART:20231105T060000
END:STANDARD
BEGIN:DAYLIGHT
TZOFFSETFROM:-0500
TZOFFSETTO:-0400
TZNAME:EDT
DTSTART:20240310T070000
END:DAYLIGHT
BEGIN:STANDARD
TZOFFSETFROM:-0400
TZOFFSETTO:-0500
TZNAME:EST
DTSTART:20241103T060000
END:STANDARD
BEGIN:DAYLIGHT
TZOFFSETFROM:-0500
TZOFFSETTO:-0400
TZNAME:EDT
DTSTART:20250309T070000
END:DAYLIGHT
BEGIN:STANDARD
TZOFFSETFROM:-0400
TZOFFSETTO:-0500
TZNAME:EST
DTSTART:20251102T060000
END:STANDARD
END:VTIMEZONE
BEGIN:VEVENT
DTSTART;TZID=America/Detroit:20241210T183000
DTEND;TZID=America/Detroit:20241210T200000
DTSTAMP:20260422T053720
CREATED:20231204T161131Z
LAST-MODIFIED:20241024T143621Z
UID:25033-1733855400-1733860800@bmwtcd.org
SUMMARY:TCD Nite - BJ's Restaurant
DESCRIPTION:Join your fellow TCD members for dinner and lively conversation at BJ's Restaurant in Livonia.  From BJ's website: \nWe started in 1978 with a delicious California twist on deep dish pizza. Today we’ve grown to become the energized\, welcoming getaway where craft beer is hero. And a remarkable menu offers something for everyone to love. Guests say we’re their everyday escape — and prove it by coming back time and again.
URL:https://bmwtcd.org/event/tcd-nite-bjs-restaurant/
LOCATION:BJ’s\, 19470 Haggerty Rd\, Livonia\, MI\, 48152\, United States
CATEGORIES:TCD Nite
ATTACH;FMTTYPE=image/jpeg:https://bmwtcd.org/wp-content/uploads/2023/10/BJs.jpg
END:VEVENT
END:VCALENDAR