BEGIN:VCALENDAR
VERSION:2.0
PRODID:-//BMW Touring Club of Detroit - ECPv6.15.11//NONSGML v1.0//EN
CALSCALE:GREGORIAN
METHOD:PUBLISH
X-ORIGINAL-URL:https://bmwtcd.org
X-WR-CALDESC:Events for BMW Touring Club of Detroit
REFRESH-INTERVAL;VALUE=DURATION:PT1H
X-Robots-Tag:noindex
X-PUBLISHED-TTL:PT1H
BEGIN:VTIMEZONE
TZID:America/Detroit
BEGIN:DAYLIGHT
TZOFFSETFROM:-0500
TZOFFSETTO:-0400
TZNAME:EDT
DTSTART:20250309T070000
END:DAYLIGHT
BEGIN:STANDARD
TZOFFSETFROM:-0400
TZOFFSETTO:-0500
TZNAME:EST
DTSTART:20251102T060000
END:STANDARD
BEGIN:DAYLIGHT
TZOFFSETFROM:-0500
TZOFFSETTO:-0400
TZNAME:EDT
DTSTART:20260308T070000
END:DAYLIGHT
BEGIN:STANDARD
TZOFFSETFROM:-0400
TZOFFSETTO:-0500
TZNAME:EST
DTSTART:20261101T060000
END:STANDARD
BEGIN:DAYLIGHT
TZOFFSETFROM:-0500
TZOFFSETTO:-0400
TZNAME:EDT
DTSTART:20270314T070000
END:DAYLIGHT
BEGIN:STANDARD
TZOFFSETFROM:-0400
TZOFFSETTO:-0500
TZNAME:EST
DTSTART:20271107T060000
END:STANDARD
END:VTIMEZONE
BEGIN:VEVENT
DTSTART;TZID=America/Detroit:20260310T183000
DTEND;TZID=America/Detroit:20260310T200000
DTSTAMP:20260420T085853
CREATED:20230718T134104Z
LAST-MODIFIED:20260114T135735Z
UID:24766-1773167400-1773172800@bmwtcd.org
SUMMARY:TCD Nite - Griffin Claw
DESCRIPTION:Join your fellow TCD members at the Griffin Claw Clubhouse on Crooks Rd in Rochester Hills\, where their mission is to be a neighborhood gathering place serving quality bfd (beer-food-drink) without the pretense. Quite simply we love exceptional beers and great food which fuels our desire to bring you the best of both worlds.  With a menu of appetizers\, soups & salads\, mac & cheese\, ribs\, fish & chips\, steaks\, burgers\, sandwiches\, sides and desserts\, Griffin Claw provides something for everyone (including veggie and vegan.)
URL:https://bmwtcd.org/event/tcd-nite-griffin-claw/
LOCATION:Griffin Claw\, 2265 Crooks Rd\, Rochester Hills\, MI\, 48309\, United States
CATEGORIES:TCD Nite
ATTACH;FMTTYPE=image/jpeg:https://bmwtcd.org/wp-content/uploads/2022/10/Griffin-Claw3.jpg
END:VEVENT
END:VCALENDAR