BEGIN:VCALENDAR
VERSION:2.0
PRODID:-//BMW Touring Club of Detroit - ECPv6.15.11//NONSGML v1.0//EN
CALSCALE:GREGORIAN
METHOD:PUBLISH
X-WR-CALNAME:BMW Touring Club of Detroit
X-ORIGINAL-URL:https://bmwtcd.org
X-WR-CALDESC:Events for BMW Touring Club of Detroit
REFRESH-INTERVAL;VALUE=DURATION:PT1H
X-Robots-Tag:noindex
X-PUBLISHED-TTL:PT1H
BEGIN:VTIMEZONE
TZID:America/Detroit
BEGIN:DAYLIGHT
TZOFFSETFROM:-0500
TZOFFSETTO:-0400
TZNAME:EDT
DTSTART:20250309T070000
END:DAYLIGHT
BEGIN:STANDARD
TZOFFSETFROM:-0400
TZOFFSETTO:-0500
TZNAME:EST
DTSTART:20251102T060000
END:STANDARD
BEGIN:DAYLIGHT
TZOFFSETFROM:-0500
TZOFFSETTO:-0400
TZNAME:EDT
DTSTART:20260308T070000
END:DAYLIGHT
BEGIN:STANDARD
TZOFFSETFROM:-0400
TZOFFSETTO:-0500
TZNAME:EST
DTSTART:20261101T060000
END:STANDARD
BEGIN:DAYLIGHT
TZOFFSETFROM:-0500
TZOFFSETTO:-0400
TZNAME:EDT
DTSTART:20270314T070000
END:DAYLIGHT
BEGIN:STANDARD
TZOFFSETFROM:-0400
TZOFFSETTO:-0500
TZNAME:EST
DTSTART:20271107T060000
END:STANDARD
END:VTIMEZONE
BEGIN:VEVENT
DTSTART;TZID=America/Detroit:20260811T183000
DTEND;TZID=America/Detroit:20260811T203000
DTSTAMP:20260422T080947
CREATED:20230809T124015Z
LAST-MODIFIED:20260214T140641Z
UID:24822-1786473000-1786480200@bmwtcd.org
SUMMARY:TCD Nite - Library Sports Pub
DESCRIPTION:Join your fellow TCD members for good eats and lively conversion at The Library Sports Pub and Grill in West Bloomfield (Haggerty\, just north of Maple).  From the website: \nThe Library Sports Pub & Grill\, opened in 2006\, is a family-owned operation. At the Pub\, we are committed to offering quality food and hospitality as well as an atmosphere catered to watching your favorite game and having a good time. The Library Pub\, West Bloomfield\, specializes in sports and private parties. We feature over 40 TV screens\, great food\, local Michigan beer\, and a large outdoor patio. Sit back and relax with a refreshing drink in our warm and casual atmosphere. We look forward to serving you!
URL:https://bmwtcd.org/event/tcd-nite-tbd/
LOCATION:Library Sports Pub & Grill\, 6363 Haggerty Rd\, West Bloomfield Township\, MI\, 48322\, United States
CATEGORIES:TCD Nite
ATTACH;FMTTYPE=image/jpeg:https://bmwtcd.org/wp-content/uploads/2022/01/LibraryPub.jpg
END:VEVENT
END:VCALENDAR