BEGIN:VCALENDAR
VERSION:2.0
PRODID:-//BMW Touring Club of Detroit - ECPv6.15.11//NONSGML v1.0//EN
CALSCALE:GREGORIAN
METHOD:PUBLISH
X-WR-CALNAME:BMW Touring Club of Detroit
X-ORIGINAL-URL:https://bmwtcd.org
X-WR-CALDESC:Events for BMW Touring Club of Detroit
REFRESH-INTERVAL;VALUE=DURATION:PT1H
X-Robots-Tag:noindex
X-PUBLISHED-TTL:PT1H
BEGIN:VTIMEZONE
TZID:America/Detroit
BEGIN:DAYLIGHT
TZOFFSETFROM:-0500
TZOFFSETTO:-0400
TZNAME:EDT
DTSTART:20250309T070000
END:DAYLIGHT
BEGIN:STANDARD
TZOFFSETFROM:-0400
TZOFFSETTO:-0500
TZNAME:EST
DTSTART:20251102T060000
END:STANDARD
BEGIN:DAYLIGHT
TZOFFSETFROM:-0500
TZOFFSETTO:-0400
TZNAME:EDT
DTSTART:20260308T070000
END:DAYLIGHT
BEGIN:STANDARD
TZOFFSETFROM:-0400
TZOFFSETTO:-0500
TZNAME:EST
DTSTART:20261101T060000
END:STANDARD
BEGIN:DAYLIGHT
TZOFFSETFROM:-0500
TZOFFSETTO:-0400
TZNAME:EDT
DTSTART:20270314T070000
END:DAYLIGHT
BEGIN:STANDARD
TZOFFSETFROM:-0400
TZOFFSETTO:-0500
TZNAME:EST
DTSTART:20271107T060000
END:STANDARD
END:VTIMEZONE
BEGIN:VEVENT
DTSTART;TZID=America/Detroit:20260210T183000
DTEND;TZID=America/Detroit:20260210T200000
DTSTAMP:20260422T103705
CREATED:20250608T224929Z
LAST-MODIFIED:20251226T210417Z
UID:25998-1770748200-1770753600@bmwtcd.org
SUMMARY:TCD Nite - Wintergarden Tavern
DESCRIPTION:Join your fellow TCD members at the Wintergarden Tavern in Livonia. Established in 1933\, this laid-back neighborhood tavern has a largebdraft list\, pool tables\, and games such as shuffleboard\, plus karaoke.
URL:https://bmwtcd.org/event/tcd-nite-wintergarden-tavern/
LOCATION:Wintergarden Tavern\, 33320 W Seven Mile Rd\, Livonia\, 48152\, United States
CATEGORIES:TCD Nite
ATTACH;FMTTYPE=image/jpeg:https://bmwtcd.org/wp-content/uploads/2025/06/wintergarden.jpg
END:VEVENT
END:VCALENDAR