BEGIN:VCALENDAR
VERSION:2.0
PRODID:-//BMW Touring Club of Detroit - ECPv6.15.11//NONSGML v1.0//EN
CALSCALE:GREGORIAN
METHOD:PUBLISH
X-ORIGINAL-URL:https://bmwtcd.org
X-WR-CALDESC:Events for BMW Touring Club of Detroit
REFRESH-INTERVAL;VALUE=DURATION:PT1H
X-Robots-Tag:noindex
X-PUBLISHED-TTL:PT1H
BEGIN:VTIMEZONE
TZID:America/Detroit
BEGIN:DAYLIGHT
TZOFFSETFROM:-0500
TZOFFSETTO:-0400
TZNAME:EDT
DTSTART:20250309T070000
END:DAYLIGHT
BEGIN:STANDARD
TZOFFSETFROM:-0400
TZOFFSETTO:-0500
TZNAME:EST
DTSTART:20251102T060000
END:STANDARD
BEGIN:DAYLIGHT
TZOFFSETFROM:-0500
TZOFFSETTO:-0400
TZNAME:EDT
DTSTART:20260308T070000
END:DAYLIGHT
BEGIN:STANDARD
TZOFFSETFROM:-0400
TZOFFSETTO:-0500
TZNAME:EST
DTSTART:20261101T060000
END:STANDARD
BEGIN:DAYLIGHT
TZOFFSETFROM:-0500
TZOFFSETTO:-0400
TZNAME:EDT
DTSTART:20270314T070000
END:DAYLIGHT
BEGIN:STANDARD
TZOFFSETFROM:-0400
TZOFFSETTO:-0500
TZNAME:EST
DTSTART:20271107T060000
END:STANDARD
END:VTIMEZONE
BEGIN:VEVENT
DTSTART;VALUE=DATE:20260909
DTEND;VALUE=DATE:20260914
DTSTAMP:20260423T091826
CREATED:20230217T194940Z
LAST-MODIFIED:20260217T022408Z
UID:24011-1788912000-1789343999@bmwtcd.org
SUMMARY:Wailin Wayne Weekend
DESCRIPTION:Wailin Wayne Weekend is a 5-day adventure motorcycle rally held in Nelsonville\, Ohio. Come enjoy hairpin twisties and scenic country roads through Hocking Hills State Park on Ohio's Windy 9. There are 130 miles of challenging trails through Wayne National Forest and endless miles of county gravel roads.  \nWhatever your style of riding\, you will find it at Wailin Wayne Weekend.
URL:https://bmwtcd.org/event/wailin-wayne-weekend/
LOCATION:Wailin’ Wayne Campground\, 3301 Hocking Pkwy\, Nelsonville\, OH\, 45764\, United States
CATEGORIES:Non-TCD Event
ATTACH;FMTTYPE=image/jpeg:https://bmwtcd.org/wp-content/uploads/2023/02/Wailin-Wayne.jpg
ORGANIZER;CN="BMW Motorcycle Owners of America":MAILTO:membership@bmwmoa.org
END:VEVENT
BEGIN:VEVENT
DTSTART;VALUE=DATE:20260913
DTEND;VALUE=DATE:20260914
DTSTAMP:20260423T091826
CREATED:20240111T182719Z
LAST-MODIFIED:20260214T014020Z
UID:25192-1789257600-1789343999@bmwtcd.org
SUMMARY:Gilmore Vintage Motorcycle Show
DESCRIPTION:Annual Vintage Motorcycle Show at the Gilmore Car Museum in Hickory Corners\, MI.  From Gilmore's website: \nA Gilmore Car Museum classic with thousands of motorcycles\, from rare and iconic rides of the past 100 years\, to the newest models driven by spectators\, rumbling into Hickory Corners\, MI. The Vintage Show will feature antique and vintage motorcycles\, scooters\, and customs\, all 25 years and older. The show also includes a large “Bike Corral.” All daily riders welcome. Full of vintage motorcycles for sale as well as a huge cycle parts and memorabilia swap meet.
URL:https://bmwtcd.org/event/vintage-motorcycle-show/
LOCATION:Gilmore Car Museum\, 6865 Hickory Rd\, Hickory Corners\, MI\, 49060\, United States
CATEGORIES:Non-TCD Event
END:VEVENT
BEGIN:VEVENT
DTSTART;TZID=America/Detroit:20260913T090000
DTEND;TZID=America/Detroit:20260913T103000
DTSTAMP:20260423T091826
CREATED:20230215T161749Z
LAST-MODIFIED:20260213T004240Z
UID:23878-1789290000-1789295400@bmwtcd.org
SUMMARY:Breakfast - Scrambler
DESCRIPTION:Scrambler is a family-owned restaurant concept serving a unique breakfast menu with fresh ingredients and friendly service.  Scrambler is located at the corner of 12 Mile and Orchard Lake Rd in Farmington Hills.
URL:https://bmwtcd.org/event/breakfast-scrambler-8/
LOCATION:Scrambler\, 27909 Orchard Lake Rd\, Farmington Hills\, MI\, 48334\, United States
CATEGORIES:TCD Breakfast
ATTACH;FMTTYPE=image/jpeg:https://bmwtcd.org/wp-content/uploads/2022/01/Scrambler.jpg
END:VEVENT
END:VCALENDAR