BEGIN:VCALENDAR
VERSION:2.0
PRODID:-//BMW Touring Club of Detroit - ECPv6.15.11//NONSGML v1.0//EN
CALSCALE:GREGORIAN
METHOD:PUBLISH
X-ORIGINAL-URL:https://bmwtcd.org
X-WR-CALDESC:Events for BMW Touring Club of Detroit
REFRESH-INTERVAL;VALUE=DURATION:PT1H
X-Robots-Tag:noindex
X-PUBLISHED-TTL:PT1H
BEGIN:VTIMEZONE
TZID:America/Detroit
BEGIN:DAYLIGHT
TZOFFSETFROM:-0500
TZOFFSETTO:-0400
TZNAME:EDT
DTSTART:20250309T070000
END:DAYLIGHT
BEGIN:STANDARD
TZOFFSETFROM:-0400
TZOFFSETTO:-0500
TZNAME:EST
DTSTART:20251102T060000
END:STANDARD
BEGIN:DAYLIGHT
TZOFFSETFROM:-0500
TZOFFSETTO:-0400
TZNAME:EDT
DTSTART:20260308T070000
END:DAYLIGHT
BEGIN:STANDARD
TZOFFSETFROM:-0400
TZOFFSETTO:-0500
TZNAME:EST
DTSTART:20261101T060000
END:STANDARD
BEGIN:DAYLIGHT
TZOFFSETFROM:-0500
TZOFFSETTO:-0400
TZNAME:EDT
DTSTART:20270314T070000
END:DAYLIGHT
BEGIN:STANDARD
TZOFFSETFROM:-0400
TZOFFSETTO:-0500
TZNAME:EST
DTSTART:20271107T060000
END:STANDARD
END:VTIMEZONE
BEGIN:VEVENT
DTSTART;VALUE=DATE:20260723
DTEND;VALUE=DATE:20260727
DTSTAMP:20260421T163342
CREATED:20230217T185042Z
LAST-MODIFIED:20260214T013129Z
UID:23999-1784764800-1785110399@bmwtcd.org
SUMMARY:Soggy Bottom Motofest
DESCRIPTION:Three day ADV riding event put on by BMW Dealer Kissell Motorsports of Tyronne\, PA that has become a favorite of the TCD ADV riders.  Very well organized\, breakfasts and dinners\, challenging and casual ADV routes\, music\, contests and a whole bunch of fun.  Click on the link to go to Kissell's event website.
URL:https://bmwtcd.org/event/soggy-bottom-motofest/
LOCATION:Fowler Grove Community Center\, 11246 S. Eagle Valley Rd\, Port Matilda\, PA\, 16870\, United States
CATEGORIES:Non-TCD Event
ATTACH;FMTTYPE=image/jpeg:https://bmwtcd.org/wp-content/uploads/2023/02/LB-Soggy-Bottom16x9-scaled-e1676660957745.jpg
ORGANIZER;CN="Kissell Motorsports":MAILTO:info@kissellmotorsports.com
END:VEVENT
END:VCALENDAR