BEGIN:VCALENDAR
VERSION:2.0
PRODID:-//BMW Touring Club of Detroit - ECPv6.15.11//NONSGML v1.0//EN
CALSCALE:GREGORIAN
METHOD:PUBLISH
X-WR-CALNAME:BMW Touring Club of Detroit
X-ORIGINAL-URL:https://bmwtcd.org
X-WR-CALDESC:Events for BMW Touring Club of Detroit
REFRESH-INTERVAL;VALUE=DURATION:PT1H
X-Robots-Tag:noindex
X-PUBLISHED-TTL:PT1H
BEGIN:VTIMEZONE
TZID:America/Detroit
BEGIN:DAYLIGHT
TZOFFSETFROM:-0500
TZOFFSETTO:-0400
TZNAME:EDT
DTSTART:20250309T070000
END:DAYLIGHT
BEGIN:STANDARD
TZOFFSETFROM:-0400
TZOFFSETTO:-0500
TZNAME:EST
DTSTART:20251102T060000
END:STANDARD
BEGIN:DAYLIGHT
TZOFFSETFROM:-0500
TZOFFSETTO:-0400
TZNAME:EDT
DTSTART:20260308T070000
END:DAYLIGHT
BEGIN:STANDARD
TZOFFSETFROM:-0400
TZOFFSETTO:-0500
TZNAME:EST
DTSTART:20261101T060000
END:STANDARD
BEGIN:DAYLIGHT
TZOFFSETFROM:-0500
TZOFFSETTO:-0400
TZNAME:EDT
DTSTART:20270314T070000
END:DAYLIGHT
BEGIN:STANDARD
TZOFFSETFROM:-0400
TZOFFSETTO:-0500
TZNAME:EST
DTSTART:20271107T060000
END:STANDARD
END:VTIMEZONE
BEGIN:VEVENT
DTSTART;TZID=America/Detroit:20260131T170000
DTEND;TZID=America/Detroit:20260131T210000
DTSTAMP:20260420T115312
CREATED:20231204T161649Z
LAST-MODIFIED:20260104T003515Z
UID:25036-1769878800-1769893200@bmwtcd.org
SUMMARY:TCD Annual Awards Banquet
DESCRIPTION:The annual TCD Awards Banquet is set for January 31st at Zerbos Bistro in Commerce Township (3000 W. Maple Rd). The schedule will be: \n\n5:00 pm - Meet & Greet\n6:00 pm - Dinner Service\n7:30 pm - Awards Presentations\n\nClick. to download the reservation form: Awards Banquet Reservations \nPlease complete and send in the Awards Banquet Reservation form along with your payment (as shown on the form) so that the club receives both no later than January 15th.  Only those with reservations will be allowed to attend the banquet\, "pay at the door" is not available.
URL:https://bmwtcd.org/event/tcd-annual-awards-banquet/
LOCATION:Zerbo’s Market & Bistro\, 3000 E West Maple Rd\, Commerce Township\, MI\, 48390\, United States
CATEGORIES:TCD Event
ATTACH;FMTTYPE=image/jpeg:https://bmwtcd.org/wp-content/uploads/2023/12/2022-Dinner-2.jpeg
END:VEVENT
END:VCALENDAR