BEGIN:VCALENDAR
VERSION:2.0
PRODID:-//BMW Touring Club of Detroit - ECPv6.15.11//NONSGML v1.0//EN
CALSCALE:GREGORIAN
METHOD:PUBLISH
X-WR-CALNAME:BMW Touring Club of Detroit
X-ORIGINAL-URL:https://bmwtcd.org
X-WR-CALDESC:Events for BMW Touring Club of Detroit
REFRESH-INTERVAL;VALUE=DURATION:PT1H
X-Robots-Tag:noindex
X-PUBLISHED-TTL:PT1H
BEGIN:VTIMEZONE
TZID:America/Detroit
BEGIN:DAYLIGHT
TZOFFSETFROM:-0500
TZOFFSETTO:-0400
TZNAME:EDT
DTSTART:20250309T070000
END:DAYLIGHT
BEGIN:STANDARD
TZOFFSETFROM:-0400
TZOFFSETTO:-0500
TZNAME:EST
DTSTART:20251102T060000
END:STANDARD
BEGIN:DAYLIGHT
TZOFFSETFROM:-0500
TZOFFSETTO:-0400
TZNAME:EDT
DTSTART:20260308T070000
END:DAYLIGHT
BEGIN:STANDARD
TZOFFSETFROM:-0400
TZOFFSETTO:-0500
TZNAME:EST
DTSTART:20261101T060000
END:STANDARD
BEGIN:DAYLIGHT
TZOFFSETFROM:-0500
TZOFFSETTO:-0400
TZNAME:EDT
DTSTART:20270314T070000
END:DAYLIGHT
BEGIN:STANDARD
TZOFFSETFROM:-0400
TZOFFSETTO:-0500
TZNAME:EST
DTSTART:20271107T060000
END:STANDARD
END:VTIMEZONE
BEGIN:VEVENT
DTSTART;TZID=America/Detroit:20260113T183000
DTEND;TZID=America/Detroit:20260113T203000
DTSTAMP:20260420T115830
CREATED:20230419T153400Z
LAST-MODIFIED:20251210T015539Z
UID:24543-1768329000-1768336200@bmwtcd.org
SUMMARY:TCD Nite - Block Brewery
DESCRIPTION:Join your fellow TCD Members for dinner and lively conversation at the Block Brewery\, north of Brighton.  The Block Brewery has a wide selection of appetizers\, entrees and smoked-in-house BBQ!
URL:https://bmwtcd.org/event/tcd-nite-block-brewery/
LOCATION:Block Brewery Brighton\, 1840 S Old US Hwy 23\, Brighton\, MI\, 48114\, United States
CATEGORIES:TCD Nite
ATTACH;FMTTYPE=image/jpeg:https://bmwtcd.org/wp-content/uploads/2023/04/BlockBreweryBrighton.jpg
END:VEVENT
END:VCALENDAR