BEGIN:VCALENDAR
VERSION:2.0
PRODID:-//BMW Touring Club of Detroit - ECPv6.15.11//NONSGML v1.0//EN
CALSCALE:GREGORIAN
METHOD:PUBLISH
X-ORIGINAL-URL:https://bmwtcd.org
X-WR-CALDESC:Events for BMW Touring Club of Detroit
REFRESH-INTERVAL;VALUE=DURATION:PT1H
X-Robots-Tag:noindex
X-PUBLISHED-TTL:PT1H
BEGIN:VTIMEZONE
TZID:America/Detroit
BEGIN:DAYLIGHT
TZOFFSETFROM:-0500
TZOFFSETTO:-0400
TZNAME:EDT
DTSTART:20240310T070000
END:DAYLIGHT
BEGIN:STANDARD
TZOFFSETFROM:-0400
TZOFFSETTO:-0500
TZNAME:EST
DTSTART:20241103T060000
END:STANDARD
BEGIN:DAYLIGHT
TZOFFSETFROM:-0500
TZOFFSETTO:-0400
TZNAME:EDT
DTSTART:20250309T070000
END:DAYLIGHT
BEGIN:STANDARD
TZOFFSETFROM:-0400
TZOFFSETTO:-0500
TZNAME:EST
DTSTART:20251102T060000
END:STANDARD
BEGIN:DAYLIGHT
TZOFFSETFROM:-0500
TZOFFSETTO:-0400
TZNAME:EDT
DTSTART:20260308T070000
END:DAYLIGHT
BEGIN:STANDARD
TZOFFSETFROM:-0400
TZOFFSETTO:-0500
TZNAME:EST
DTSTART:20261101T060000
END:STANDARD
END:VTIMEZONE
BEGIN:VEVENT
DTSTART;VALUE=DATE:20250817
DTEND;VALUE=DATE:20250825
DTSTAMP:20260420T102253
CREATED:20250310T141117Z
LAST-MODIFIED:20250310T155215Z
UID:25892-1755388800-1756079999@bmwtcd.org
SUMMARY:Lake Huron Circle Tour
DESCRIPTION:A tour around Lake Huron via Tobermory\, Manitoulin Island\, Parry Sound\, Algonquin\, Northen Quebec and Ontario. \nCheck the forum for more info and discussion.  Lake Huron Circle and Ferry Tour Aug 17 – 24\, 2025 – Rides – BMW Touring Club of Detroit Forum \nLake Huron Circle and ferry tour from Sunday\, August 17 to Monday\, Aug. 25.  We will embark Sunday morning on the 17th and head to Algonac and take the Walpole Ferry across to Canada and then head up Highway 21 to Tobermory for the night.  On Monday morning we will take the Chi-Cheemaun Ferry across Georgian Bay to Manitoulin island and make our way across the island to Northern Ontario where we will dabble routes and towns like Parry Sound\, Huntsville\, Algonquin Park\, Petawa\, then dip into Northern Quebec for Val D'or\, Kirkland Lake\, Timmins\, Wawa\, Batchawana Bay and more.  We will traverse Northern Ontario and Quebec on some gorgeous twisty roads full of breathtaking scenery\, across the Canadian Shield and meander our way to Wawa and then back down through the Soo. \nHere is a list of hotels to book.  They will fill up very quickly as the areas we are riding to are very popular in the summer and availability is limited.  Price is reflective of lack of hotels in the area\, but so worth it. You can begin to look for roommates to share cost.  Just remember that your American dollar will go 30-40% further in Canada. \nAugust 17\, Sunday: Bruce Anchor Motel\, Tobermory\, Ontario\nAugust 18\, Monday: Best Western Plus\, Parry Sound\, Ontario\nAugust 19\, Tuesday: Quality Inn\, Petawawa\, Ontario\nAugust 20\, Wednesday: Microtel inn & Suites\, Val d’Or\, Quebec\nAugust 21\, Thursday: Best Western Premier\, Timmins\, Ontario\nAugust 22\, Friday: Voyager Lodge and Cookhouse\, Batchawana Bay\, Ontario\nAug. 23rd in the Soo. TBD
URL:https://bmwtcd.org/event/lake-huron-circle-tour/
CATEGORIES:TCD Event,TCD Ride
END:VEVENT
END:VCALENDAR